BEGIN:VCALENDAR
VERSION:2.0
PRODID:-//Continental Divide Trail Coalition - ECPv6.15.20//NONSGML v1.0//EN
CALSCALE:GREGORIAN
METHOD:PUBLISH
X-WR-CALNAME:Continental Divide Trail Coalition
X-ORIGINAL-URL:https://cdtcoalition.org
X-WR-CALDESC:Events for Continental Divide Trail Coalition
REFRESH-INTERVAL;VALUE=DURATION:PT1H
X-Robots-Tag:noindex
X-PUBLISHED-TTL:PT1H
BEGIN:VTIMEZONE
TZID:America/Denver
BEGIN:DAYLIGHT
TZOFFSETFROM:-0700
TZOFFSETTO:-0600
TZNAME:MDT
DTSTART:20250309T090000
END:DAYLIGHT
BEGIN:STANDARD
TZOFFSETFROM:-0600
TZOFFSETTO:-0700
TZNAME:MST
DTSTART:20251102T080000
END:STANDARD
BEGIN:DAYLIGHT
TZOFFSETFROM:-0700
TZOFFSETTO:-0600
TZNAME:MDT
DTSTART:20260308T090000
END:DAYLIGHT
BEGIN:STANDARD
TZOFFSETFROM:-0600
TZOFFSETTO:-0700
TZNAME:MST
DTSTART:20261101T080000
END:STANDARD
BEGIN:DAYLIGHT
TZOFFSETFROM:-0700
TZOFFSETTO:-0600
TZNAME:MDT
DTSTART:20270314T090000
END:DAYLIGHT
BEGIN:STANDARD
TZOFFSETFROM:-0600
TZOFFSETTO:-0700
TZNAME:MST
DTSTART:20271107T080000
END:STANDARD
END:VTIMEZONE
BEGIN:VEVENT
DTSTART;TZID=America/Denver:20260911T090000
DTEND;TZID=America/Denver:20260911T210000
DTSTAMP:20260420T022513
CREATED:20260112T231351Z
LAST-MODIFIED:20260112T232328Z
UID:10000117-1789117200-1789160400@cdtcoalition.org
SUMMARY:CDT SOBO TRAIL DAZE 2026 | Leadville\, CO
DESCRIPTION:CDT SOBO TRAIL DAZE \n*This is a partner hosted event* \n\nDate: September 11\, 2026\nTime: TBD\nLocation: 308 Harrison Ave\, Leadville\, CO\, 80461 (tentative)\n\nEvent Overview: \nDon’t miss the 6th Annual Continental Divide Trail SOBO TRAIL DAZE events in Leadville\, Colorado — the spiritual halfway point of CDT! \nFREE! BILINGUAL! \nThe program for 2026 is TBD\, but will typically include a morning/hike run\, a workshop\, a speaker series\, local makers market\, and giveaways/prizes! \n#thruhike #thruhiking #continentaldividetrail #cdt #ct #coloradotrail \nFollow @cdtsobotraildaze on Instagram for the most up to date information. \n**Registration is not required for this free event\, but if you would like to let us know you’re attending\, click “Get Tickets.” (TBD) \nQuestions? Please contact: \n\nGroucho Lemieux (Event Organizer)\n\nEmail: flyawayone@gmail.com\n\n\nContinental Divide Trail Coalition\n\nEmail: info@cdtcoalition.org
URL:https://cdtcoalition.org/event/cdt-sobo-trail-daze-2026-leadville-co/
LOCATION:Tabor Opera House\, 308 Harrison Ave\, Leadville\, CO\, 80461\, United States
CATEGORIES:Public Event
ATTACH;FMTTYPE=image/jpeg:https://cdtcoalition.org/wp-content/uploads/Downtown-Leadville-Justin-Talbot-2.jpg
ORGANIZER;CN="Groucho Lemieux":MAILTO:flyawayone@gmail.com
END:VEVENT
END:VCALENDAR